BEGIN:VCALENDAR
VERSION:2.0
PRODID:-//Ergone - ECPv6.15.12//NONSGML v1.0//EN
CALSCALE:GREGORIAN
METHOD:PUBLISH
X-ORIGINAL-URL:https://ergone.org
X-WR-CALDESC:Évènements pour Ergone
REFRESH-INTERVAL;VALUE=DURATION:PT1H
X-Robots-Tag:noindex
X-PUBLISHED-TTL:PT1H
BEGIN:VTIMEZONE
TZID:Europe/Paris
BEGIN:DAYLIGHT
TZOFFSETFROM:+0100
TZOFFSETTO:+0200
TZNAME:CEST
DTSTART:20250330T010000
END:DAYLIGHT
BEGIN:STANDARD
TZOFFSETFROM:+0200
TZOFFSETTO:+0100
TZNAME:CET
DTSTART:20251026T010000
END:STANDARD
BEGIN:DAYLIGHT
TZOFFSETFROM:+0100
TZOFFSETTO:+0200
TZNAME:CEST
DTSTART:20260329T010000
END:DAYLIGHT
BEGIN:STANDARD
TZOFFSETFROM:+0200
TZOFFSETTO:+0100
TZNAME:CET
DTSTART:20261025T010000
END:STANDARD
BEGIN:DAYLIGHT
TZOFFSETFROM:+0100
TZOFFSETTO:+0200
TZNAME:CEST
DTSTART:20270328T010000
END:DAYLIGHT
BEGIN:STANDARD
TZOFFSETFROM:+0200
TZOFFSETTO:+0100
TZNAME:CET
DTSTART:20271031T010000
END:STANDARD
END:VTIMEZONE
BEGIN:VEVENT
DTSTART;VALUE=DATE:20261101
DTEND;VALUE=DATE:20261102
DTSTAMP:20260423T110651
CREATED:20240416T125805Z
LAST-MODIFIED:20251125T153437Z
UID:3456-1793491200-1793577599@ergone.org
SUMMARY:Les « OFF » d’Ergone
DESCRIPTION:Informations à venir\n📍En ligne\n📆 Novembre
URL:https://ergone.org/event/les-off-dergone/
LOCATION:En ligne\, En ligne
CATEGORIES:Off
ATTACH;FMTTYPE=image/png:https://ergone.org/wp-content/uploads/2020/12/Ergone_LogoFB-YT.png
END:VEVENT
END:VCALENDAR